BEGIN:VCALENDAR
VERSION:2.0
PRODID:gruene-roethenbach.de
METHOD:PUBLISH
BEGIN:VTIMEZONE
TZID:Europe/Berlin
X-LIC-LOCATION:Europe/Berlin
BEGIN:DAYLIGHT
TZOFFSETFROM:+0100
TZOFFSETTO:+0200
TZNAME:CEST
DTSTART:19700329T020000
RRULE:FREQ=YEARLY;INTERVAL=1;BYDAY=-1SU;BYMONTH=3
END:DAYLIGHT
BEGIN:STANDARD
TZOFFSETFROM:+0200
TZOFFSETTO:+0100
TZNAME:CET
DTSTART:19701025T030000
RRULE:FREQ=YEARLY;INTERVAL=1;BYDAY=-1SU;BYMONTH=10
END:STANDARD
END:VTIMEZONE
BEGIN:VEVENT
UID:6d23ccc5ae310c4badc2d695193f6cfd@gruene-roethenbach.de
URL;VALUE=URI:https://gruene-roethenbach.de/termine/stammtisch-2/
LOCATION:Chill-Club, Grabenstr. 10, 90552 Röthenbach
SUMMARY:Stammtisch (! letzter Donnerstag im April !)
DESCRIPTION;ALTREP="data:text/html,%0A%3Cp%3EGeselliges%20Zusammensein%20
 an%20jedem%201.%20Donnerstag%20im%20Monat%20f%C3%BCr%20Mitglieder%2C%20Sy
 mpathisanten%20und%20Neugierige%21%3C%2Fp%3E%0A%0A%0A%0A%3Cp%3E%3Cstrong%
 3EKommt%20einfach%20vorbei%20und%20lernt%20uns%20kennen%21%3C%2Fstrong%3E
 %3C%2Fp%3E%0A%0A%0A%0A%3Cp%3E%3C%2Fp%3E%0A":Geselliges Zusammensein an je
 dem 1. Donnerstag im Monat für Mitglieder\, Sympathisanten und Neugierig
 e!\n\nKommt einfach vorbei und lernt uns kennen!
CLASS:PUBLIC
DTSTART;TZID=Europe/Berlin:20260430T193000
DTEND;TZID=Europe/Berlin:20260430T230000
DTSTAMP:20260421T083116
END:VEVENT
BEGIN:VEVENT
UID:d351502ab8f3be33a1f623387f90c595@gruene-roethenbach.de
URL;VALUE=URI:https://gruene-roethenbach.de/termine/ortsversammlung/
LOCATION:Hotel am Steinberg, Werner-von-Siemens-Allee 25C, 90552 Röthenb
 ach
SUMMARY:Ortsversammlung
DESCRIPTION;ALTREP="data:text/html,%0A%3Cp%20class%3D%22has-black-color%2
 0has-text-color%20has-link-color%20wp-elements-a735a34a45194482e50dec1bb3
 0e296c%22%3EEinmal%20im%20Monat%20laden%20wir%20zur%20%C3%B6ffentlichen%2
 0Ortsversammlung%20ein.%20Dort%20diskutieren%20wir%20aktuelle%20Themen%20
 aus%20dem%20Stadtrat%20und%20planen%20Aktivit%C3%A4ten%20der%20Ortsgruppe
 .%3C%2Fp%3E%0A%0A%0A%0A%3Cp%3E%3Cstrong%3EJede%2Fr%20Interessierte%20ist%
 20herzlich%20willkommen%21%3C%2Fstrong%3E%3C%2Fp%3E%0A%0A%0A%0A%3Cp%3EInf
 ormationen%20k%C3%B6nnen%20gerne%20bei%20sandra%28at%29gruene-roethenbach
 .de%20erfragt%20werden.%3C%2Fp%3E%0A":Einmal im Monat laden wir zur öffe
 ntlichen Ortsversammlung ein. Dort diskutieren wir aktuelle Themen aus de
 m Stadtrat und planen Aktivitäten der Ortsgruppe.\n\nJede/r Interessiert
 e ist herzlich willkommen!\n\nInformationen können gerne bei sandra(at)g
 ruene-roethenbach.de erfragt werden.
CLASS:PUBLIC
DTSTART;TZID=Europe/Berlin:20260527T190000
DTEND;TZID=Europe/Berlin:20260527T220000
DTSTAMP:20260421T083116
END:VEVENT
BEGIN:VEVENT
UID:7280544749f4b1d5f67dd50829cd3379@gruene-roethenbach.de
URL;VALUE=URI:https://gruene-roethenbach.de/termine/ortsversammlung-5/
LOCATION:Hotel am Steinberg, Werner-von-Siemens-Allee 25C, 90552 Röthenb
 ach
SUMMARY:Ortsversammlung
DESCRIPTION;ALTREP="data:text/html,%0A%3Cp%3EEinmal%20im%20Monat%20laden%
 20wir%20zur%20%C3%B6ffentlichen%20Ortsversammlung%20ein.%20Dort%20diskuti
 eren%20wir%20aktuelle%20Themen%20aus%20dem%20Stadtrat%20und%20planen%20Ak
 tivit%C3%A4ten%20der%20Ortsgruppe.%3C%2Fp%3E%0A%0A%0A%0A%3Cp%3E%3Cstrong%
 3EJede%2Fr%20Interessierte%20ist%20herzlich%20willkommen%21%3C%2Fstrong%3
 E%3C%2Fp%3E%0A%0A%0A%0A%3Cp%3EInformationen%20k%C3%B6nnen%20gerne%20bei%2
 0sandra%28at%29gruene-roethenbach.de%20erfragt%20werden.%3C%2Fp%3E%0A":Ei
 nmal im Monat laden wir zur öffentlichen Ortsversammlung ein. Dort disku
 tieren wir aktuelle Themen aus dem Stadtrat und planen Aktivitäten der O
 rtsgruppe.\n\nJede/r Interessierte ist herzlich willkommen!\n\nInformatio
 nen können gerne bei sandra(at)gruene-roethenbach.de erfragt werden.
CLASS:PUBLIC
DTSTART;TZID=Europe/Berlin:20260701T190000
DTEND;TZID=Europe/Berlin:20260701T220000
DTSTAMP:20260421T083116
END:VEVENT
END:VCALENDAR